BEGIN:VCALENDAR
VERSION:2.0
METHOD:PUBLISH
PRODID:-//hacksw/handcal//NONSGML v1.0//EN
BEGIN:VEVENT
DTSTAMP:20260421T085015Z
DTSTART:20260421T170000Z
DTEND:20260421T190000Z
UID:20260421T170000Z-20260421T190000Z-2893@www.ff-micheldorf.at
SUMMARY:Gruppenübung Leitern im Einsatz
DESCRIPTION:
X-ALT-DESC;FMTTYPE=text/html:
URL:https://www.ff-micheldorf.at/events/gruppenuebung-leitern-im-einsa
 tz/?lang=de
ATTACH:https://www.ff-micheldorf.at/events/gruppenuebung-leitern-im-ei
 nsatz/?lang=de
END:VEVENT
BEGIN:VEVENT
DTSTAMP:20260421T085015Z
DTSTART:20260422T170000Z
DTEND:20260422T190000Z
UID:20260422T170000Z-20260422T190000Z-2883@www.ff-micheldorf.at
SUMMARY:FKAE Bronze
DESCRIPTION:
X-ALT-DESC;FMTTYPE=text/html:
URL:https://www.ff-micheldorf.at/events/fkae-bronze-2/?lang=de
ATTACH:https://www.ff-micheldorf.at/events/fkae-bronze-2/?lang=de
LOCATION:FW Haus Mdf\, \,
END:VEVENT
BEGIN:VEVENT
DTSTAMP:20260421T085015Z
DTSTART:20260424T170000Z
DTEND:20260424T190000Z
UID:20260424T170000Z-20260424T190000Z-2851@www.ff-micheldorf.at
SUMMARY:Kommandositzung
DESCRIPTION:
X-ALT-DESC;FMTTYPE=text/html:
URL:https://www.ff-micheldorf.at/events/kommandositzung-35/?lang=de
ATTACH:https://www.ff-micheldorf.at/events/kommandositzung-35/?lang=de
END:VEVENT
BEGIN:VEVENT
DTSTAMP:20260421T085015Z
DTSTART;VALUE=DATE:20260425
DTEND;VALUE=DATE:20260426
UID:20260424T220000Z-20260425T215959Z-2919@www.ff-micheldorf.at
SUMMARY:TR Camp - Magdalenaberg
DESCRIPTION:
X-ALT-DESC;FMTTYPE=text/html:
URL:https://www.ff-micheldorf.at/events/tr-camp-magdalenaberg-2/?lang=
 de
ATTACH:https://www.ff-micheldorf.at/events/tr-camp-magdalenaberg-2/?la
 ng=de
LOCATION:FW Haus\, \,
END:VEVENT
BEGIN:VEVENT
DTSTAMP:20260421T085015Z
DTSTART:20260425T090000Z
DTEND:20260425T120000Z
UID:20260425T090000Z-20260425T120000Z-2915@www.ff-micheldorf.at
SUMMARY:Tag der offenen Türe für die ganz Kleinen - Krabbeltag
DESCRIPTION:
X-ALT-DESC;FMTTYPE=text/html:
URL:https://www.ff-micheldorf.at/events/tag-der-offenen-tuere-fuer-die
 -ganz-kleinen-krabbeltag/?lang=de
ATTACH:https://www.ff-micheldorf.at/events/tag-der-offenen-tuere-fuer-
 die-ganz-kleinen-krabbeltag/?lang=de
LOCATION:FW Haus Mdf\, \,
END:VEVENT
BEGIN:VEVENT
DTSTAMP:20260421T085015Z
DTSTART;VALUE=DATE:20260426
DTEND;VALUE=DATE:20260427
UID:20260425T220000Z-20260426T215959Z-2920@www.ff-micheldorf.at
SUMMARY:TR Camp - Magdalenaberg
DESCRIPTION:
X-ALT-DESC;FMTTYPE=text/html:
URL:https://www.ff-micheldorf.at/events/tr-camp-magdalenaberg-3/?lang=
 de
ATTACH:https://www.ff-micheldorf.at/events/tr-camp-magdalenaberg-3/?la
 ng=de
LOCATION:FW Haus\, \,
END:VEVENT
BEGIN:VEVENT
DTSTAMP:20260421T085015Z
DTSTART:20260426T070000Z
DTEND:20260426T100000Z
UID:20260426T070000Z-20260426T100000Z-2904@www.ff-micheldorf.at
SUMMARY:Georgiritt
DESCRIPTION:
X-ALT-DESC;FMTTYPE=text/html:
URL:https://www.ff-micheldorf.at/events/georgiritt-3/?lang=de
ATTACH:https://www.ff-micheldorf.at/events/georgiritt-3/?lang=de
END:VEVENT
BEGIN:VEVENT
DTSTAMP:20260421T085015Z
DTSTART:20260427T173000Z
DTEND:20260427T193000Z
UID:20260427T173000Z-20260427T193000Z-2826@www.ff-micheldorf.at
SUMMARY:Kommandantendienstbesprechung Bezirk
DESCRIPTION:
X-ALT-DESC;FMTTYPE=text/html:
URL:https://www.ff-micheldorf.at/events/kommandantendienstbesprechung-
 bezirk-4/?lang=de
ATTACH:https://www.ff-micheldorf.at/events/kommandantendienstbesprechu
 ng-bezirk-4/?lang=de
LOCATION:FW-Haus Micheldorf\, \,
END:VEVENT
BEGIN:VEVENT
DTSTAMP:20260421T085015Z
DTSTART:20260428T170000Z
DTEND:20260428T190000Z
UID:20260428T170000Z-20260428T190000Z-2894@www.ff-micheldorf.at
SUMMARY:Gruppenübung Schlauchmanagement in der Praxis
DESCRIPTION:
X-ALT-DESC;FMTTYPE=text/html:
URL:https://www.ff-micheldorf.at/events/gruppenuebung-schlauchmanageme
 nt-in-der-praxis/?lang=de
ATTACH:https://www.ff-micheldorf.at/events/gruppenuebung-schlauchmanag
 ement-in-der-praxis/?lang=de
END:VEVENT
BEGIN:VEVENT
DTSTAMP:20260421T085015Z
DTSTART:20260429T170000Z
DTEND:20260429T183000Z
UID:20260429T170000Z-20260429T183000Z-2906@www.ff-micheldorf.at
SUMMARY:Festsitzung
DESCRIPTION:
X-ALT-DESC;FMTTYPE=text/html:
URL:https://www.ff-micheldorf.at/events/festsitzung/?lang=de
ATTACH:https://www.ff-micheldorf.at/events/festsitzung/?lang=de
END:VEVENT
BEGIN:VEVENT
DTSTAMP:20260421T085015Z
DTSTART:20260429T170000Z
DTEND:20260429T190000Z
UID:20260429T170000Z-20260429T190000Z-2884@www.ff-micheldorf.at
SUMMARY:FKAE Bronze
DESCRIPTION:
X-ALT-DESC;FMTTYPE=text/html:
URL:https://www.ff-micheldorf.at/events/fkae-bronze-3/?lang=de
ATTACH:https://www.ff-micheldorf.at/events/fkae-bronze-3/?lang=de
LOCATION:FW Haus Mdf\, \,
END:VEVENT
BEGIN:VEVENT
DTSTAMP:20260421T085015Z
DTSTART:20260429T170000Z
DTEND:20260429T190000Z
UID:20260429T170000Z-20260429T190000Z-2921@www.ff-micheldorf.at
SUMMARY:Sitzung Tunnel
DESCRIPTION:
X-ALT-DESC;FMTTYPE=text/html:
URL:https://www.ff-micheldorf.at/events/sitzung-tunnel/?lang=de
ATTACH:https://www.ff-micheldorf.at/events/sitzung-tunnel/?lang=de
END:VEVENT
BEGIN:VEVENT
DTSTAMP:20260421T085015Z
DTSTART:20260430T154500Z
DTEND:20260430T163000Z
UID:20260430T154500Z-20260430T163000Z-2911@www.ff-micheldorf.at
SUMMARY:Maibaumaufstellen - Unterstützung FF Kdf.
DESCRIPTION:
X-ALT-DESC;FMTTYPE=text/html:
URL:https://www.ff-micheldorf.at/events/maibaumaufstellen-unterstuetzu
 ng-ff-kdf/?lang=de
ATTACH:https://www.ff-micheldorf.at/events/maibaumaufstellen-unterstue
 tzung-ff-kdf/?lang=de
LOCATION:Kirchdorf\, \,
END:VEVENT
BEGIN:VEVENT
DTSTAMP:20260421T085015Z
DTSTART:20260430T163000Z
DTEND:20260430T180000Z
UID:20260430T163000Z-20260430T180000Z-2907@www.ff-micheldorf.at
SUMMARY:Maibaumaufstellen
DESCRIPTION:
X-ALT-DESC;FMTTYPE=text/html:
URL:https://www.ff-micheldorf.at/events/maibaumaufstellen-2/?lang=de
ATTACH:https://www.ff-micheldorf.at/events/maibaumaufstellen-2/?lang=d
 e
END:VEVENT
BEGIN:VEVENT
DTSTAMP:20260421T085015Z
DTSTART:20260502T090000Z
DTEND:20260502T150000Z
UID:20260502T090000Z-20260502T150000Z-2912@www.ff-micheldorf.at
SUMMARY:Sicherheitstag mit WLK - FF Leonstein
DESCRIPTION:
X-ALT-DESC;FMTTYPE=text/html:
URL:https://www.ff-micheldorf.at/events/sicherheitstag-mit-wlk-ff-leon
 stein/?lang=de
ATTACH:https://www.ff-micheldorf.at/events/sicherheitstag-mit-wlk-ff-l
 eonstein/?lang=de
LOCATION:FW Haus\, \,
END:VEVENT
BEGIN:VEVENT
DTSTAMP:20260421T085015Z
DTSTART:20260503T080000Z
DTEND:20260503T100000Z
UID:20260503T080000Z-20260503T100000Z-2796@www.ff-micheldorf.at
SUMMARY:Florianimesse
DESCRIPTION:Treffpunkt Pfarrkirche Micheldorf 09:30 Uhr
X-ALT-DESC;FMTTYPE=text/html:<p>Treffpunkt Pfarrkirche Micheldorf 09:3
 0 Uhr</p>\n
URL:https://www.ff-micheldorf.at/events/florianimesse-4/?lang=de
ATTACH:https://www.ff-micheldorf.at/events/florianimesse-4/?lang=de
LOCATION:Pfarrkirche Micheldorf\, \,
END:VEVENT
BEGIN:VEVENT
DTSTAMP:20260421T085015Z
DTSTART:20260504T180000Z
DTEND:20260504T190000Z
UID:20260504T180000Z-20260504T190000Z-2818@www.ff-micheldorf.at
SUMMARY:Monatsversammlung
DESCRIPTION:
X-ALT-DESC;FMTTYPE=text/html:
URL:https://www.ff-micheldorf.at/events/monatsversammlung-87/?lang=de
ATTACH:https://www.ff-micheldorf.at/events/monatsversammlung-87/?lang=
 de
LOCATION:FW Haus Mdf\, \,
END:VEVENT
BEGIN:VEVENT
DTSTAMP:20260421T085015Z
DTSTART:20260506T170000Z
DTEND:20260506T190000Z
UID:20260506T170000Z-20260506T190000Z-2885@www.ff-micheldorf.at
SUMMARY:FKAE Bronze
DESCRIPTION:
X-ALT-DESC;FMTTYPE=text/html:
URL:https://www.ff-micheldorf.at/events/fkae-bronze-4/?lang=de
ATTACH:https://www.ff-micheldorf.at/events/fkae-bronze-4/?lang=de
LOCATION:FW Haus Mdf\, \,
END:VEVENT
BEGIN:VEVENT
DTSTAMP:20260421T085015Z
DTSTART;VALUE=DATE:20260508
DTEND;VALUE=DATE:20260509
UID:20260507T220000Z-20260508T215959Z-2917@www.ff-micheldorf.at
SUMMARY:Planspiel KAT-Übung in der Steyrling
DESCRIPTION:
X-ALT-DESC;FMTTYPE=text/html:
URL:https://www.ff-micheldorf.at/events/terminaviso-kat-uebung-in-der-
 steyrling-2/?lang=de
ATTACH:https://www.ff-micheldorf.at/events/terminaviso-kat-uebung-in-d
 er-steyrling-2/?lang=de
END:VEVENT
BEGIN:VEVENT
DTSTAMP:20260421T085015Z
DTSTART;VALUE=DATE:20260509
DTEND;VALUE=DATE:20260510
UID:20260508T220000Z-20260509T215959Z-2918@www.ff-micheldorf.at
SUMMARY:KAT-Übung in der Steyrling
DESCRIPTION:
X-ALT-DESC;FMTTYPE=text/html:
URL:https://www.ff-micheldorf.at/events/terminaviso-kat-uebung-in-der-
 steyrling-3/?lang=de
ATTACH:https://www.ff-micheldorf.at/events/terminaviso-kat-uebung-in-d
 er-steyrling-3/?lang=de
END:VEVENT
BEGIN:VEVENT
DTSTAMP:20260421T085015Z
DTSTART:20260512T170000Z
DTEND:20260512T190000Z
UID:20260512T170000Z-20260512T190000Z-2895@www.ff-micheldorf.at
SUMMARY:Gruppenübung Tür & Fensteröffnung im Notfall
DESCRIPTION:
X-ALT-DESC;FMTTYPE=text/html:
URL:https://www.ff-micheldorf.at/events/gruppenuebung-tuer-fensteroeff
 nung-im-notfall-3/?lang=de
ATTACH:https://www.ff-micheldorf.at/events/gruppenuebung-tuer-fenstero
 effnung-im-notfall-3/?lang=de
END:VEVENT
BEGIN:VEVENT
DTSTAMP:20260421T085015Z
DTSTART:20260519T170000Z
DTEND:20260519T190000Z
UID:20260519T170000Z-20260519T190000Z-2897@www.ff-micheldorf.at
SUMMARY:Gruppenübung Tunnelvorgehen/Autobahn
DESCRIPTION:
X-ALT-DESC;FMTTYPE=text/html:
URL:https://www.ff-micheldorf.at/events/gruppenuebung-tunnelvorgehenau
 tobahn/?lang=de
ATTACH:https://www.ff-micheldorf.at/events/gruppenuebung-tunnelvorgehe
 nautobahn/?lang=de
END:VEVENT
BEGIN:VEVENT
DTSTAMP:20260421T085015Z
DTSTART:20260525T170000Z
DTEND:20260525T190000Z
UID:20260525T170000Z-20260525T190000Z-2852@www.ff-micheldorf.at
SUMMARY:Kommandositzung
DESCRIPTION:
X-ALT-DESC;FMTTYPE=text/html:
URL:https://www.ff-micheldorf.at/events/kommandositzung-36/?lang=de
ATTACH:https://www.ff-micheldorf.at/events/kommandositzung-36/?lang=de
END:VEVENT
BEGIN:VEVENT
DTSTAMP:20260421T085015Z
DTSTART:20260601T180000Z
DTEND:20260601T190000Z
UID:20260601T180000Z-20260601T190000Z-2819@www.ff-micheldorf.at
SUMMARY:Monatsversammlung
DESCRIPTION:
X-ALT-DESC;FMTTYPE=text/html:
URL:https://www.ff-micheldorf.at/events/monatsversammlung-88/?lang=de
ATTACH:https://www.ff-micheldorf.at/events/monatsversammlung-88/?lang=
 de
LOCATION:FW-Haus Micheldorf\, \,
END:VEVENT
BEGIN:VEVENT
DTSTAMP:20260421T085015Z
DTSTART:20260605T170000Z
DTEND:20260605T190000Z
UID:20260605T170000Z-20260605T190000Z-2836@www.ff-micheldorf.at
SUMMARY:Zugsübung Forstunfall in Verbindung mit Suchaktion
DESCRIPTION:
X-ALT-DESC;FMTTYPE=text/html:
URL:https://www.ff-micheldorf.at/events/zugsuebung-forstunfall-in-verb
 indung-mit-suchaktion/?lang=de
ATTACH:https://www.ff-micheldorf.at/events/zugsuebung-forstunfall-in-v
 erbindung-mit-suchaktion/?lang=de
LOCATION:Gemeindegebiet\, \,
END:VEVENT
BEGIN:VEVENT
DTSTAMP:20260421T085015Z
DTSTART:20260609T170000Z
DTEND:20260609T190000Z
UID:20260609T170000Z-20260609T190000Z-2898@www.ff-micheldorf.at
SUMMARY:Gruppenübung Fahrtraining auf Feldwegen und Forststraßen
DESCRIPTION:
X-ALT-DESC;FMTTYPE=text/html:
URL:https://www.ff-micheldorf.at/events/gruppenuebung-fahrtraining-auf
 -feldwegen-und-forststrassen/?lang=de
ATTACH:https://www.ff-micheldorf.at/events/gruppenuebung-fahrtraining-
 auf-feldwegen-und-forststrassen/?lang=de
END:VEVENT
BEGIN:VEVENT
DTSTAMP:20260421T085015Z
DTSTART:20260616T170000Z
DTEND:20260616T190000Z
UID:20260616T170000Z-20260616T190000Z-2899@www.ff-micheldorf.at
SUMMARY:Gruppenübung MA-Ausbildung FOX Saugvorgang aus Bach
DESCRIPTION:
X-ALT-DESC;FMTTYPE=text/html:
URL:https://www.ff-micheldorf.at/events/gruppenuebung-ma-ausbildung-fo
 x-saugvorgang-aus-bach/?lang=de
ATTACH:https://www.ff-micheldorf.at/events/gruppenuebung-ma-ausbildung
 -fox-saugvorgang-aus-bach/?lang=de
END:VEVENT
BEGIN:VEVENT
DTSTAMP:20260421T085015Z
DTSTART:20260625T170000Z
DTEND:20260625T190000Z
UID:20260625T170000Z-20260625T190000Z-2810@www.ff-micheldorf.at
SUMMARY:Wahl BFK
DESCRIPTION:
X-ALT-DESC;FMTTYPE=text/html:
URL:https://www.ff-micheldorf.at/events/wahl-bfk/?lang=de
ATTACH:https://www.ff-micheldorf.at/events/wahl-bfk/?lang=de
LOCATION:BH Kirchdorf\, \,
END:VEVENT
BEGIN:VEVENT
DTSTAMP:20260421T085015Z
DTSTART:20260629T170000Z
DTEND:20260629T190000Z
UID:20260629T170000Z-20260629T190000Z-2853@www.ff-micheldorf.at
SUMMARY:Kommandositzung
DESCRIPTION:
X-ALT-DESC;FMTTYPE=text/html:
URL:https://www.ff-micheldorf.at/events/kommandositzung-37/?lang=de
ATTACH:https://www.ff-micheldorf.at/events/kommandositzung-37/?lang=de
END:VEVENT
BEGIN:VEVENT
DTSTAMP:20260421T085015Z
DTSTART:20260706T180000Z
DTEND:20260706T190000Z
UID:20260706T180000Z-20260706T190000Z-2820@www.ff-micheldorf.at
SUMMARY:Monatsversammlung
DESCRIPTION:
X-ALT-DESC;FMTTYPE=text/html:
URL:https://www.ff-micheldorf.at/events/monatsversammlung-89/?lang=de
ATTACH:https://www.ff-micheldorf.at/events/monatsversammlung-89/?lang=
 de
LOCATION:FW-Haus Micheldorf\, \,
END:VEVENT
BEGIN:VEVENT
DTSTAMP:20260421T085015Z
DTSTART:20260710T170000Z
DTEND:20260710T190000Z
UID:20260710T170000Z-20260710T190000Z-2837@www.ff-micheldorf.at
SUMMARY:Zugsübung Relaisleitung mit FF Altpernstein
DESCRIPTION:
X-ALT-DESC;FMTTYPE=text/html:
URL:https://www.ff-micheldorf.at/events/zugsuebung-relaisleitung-mit-f
 f-altpernstein/?lang=de
ATTACH:https://www.ff-micheldorf.at/events/zugsuebung-relaisleitung-mi
 t-ff-altpernstein/?lang=de
LOCATION:Altpernstein\, \,
END:VEVENT
BEGIN:VEVENT
DTSTAMP:20260421T085015Z
DTSTART:20260714T170000Z
DTEND:20260714T190000Z
UID:20260714T170000Z-20260714T190000Z-2900@www.ff-micheldorf.at
SUMMARY:Gruppenübung Freibad - Chlorgasanlage
DESCRIPTION:
X-ALT-DESC;FMTTYPE=text/html:
URL:https://www.ff-micheldorf.at/events/gruppenuebung-freibad-chlorgas
 anlage/?lang=de
ATTACH:https://www.ff-micheldorf.at/events/gruppenuebung-freibad-chlor
 gasanlage/?lang=de
END:VEVENT
BEGIN:VEVENT
DTSTAMP:20260421T085015Z
DTSTART:20260727T170000Z
DTEND:20260727T190000Z
UID:20260727T170000Z-20260727T190000Z-2854@www.ff-micheldorf.at
SUMMARY:Kommandositzung
DESCRIPTION:
X-ALT-DESC;FMTTYPE=text/html:
URL:https://www.ff-micheldorf.at/events/kommandositzung-38/?lang=de
ATTACH:https://www.ff-micheldorf.at/events/kommandositzung-38/?lang=de
END:VEVENT
BEGIN:VEVENT
DTSTAMP:20260421T085015Z
DTSTART:20260801T110000Z
DTEND:20260801T140000Z
UID:20260801T110000Z-20260801T140000Z-2913@www.ff-micheldorf.at
SUMMARY:Ferienaktion der FF Micheldorf
DESCRIPTION:
X-ALT-DESC;FMTTYPE=text/html:
URL:https://www.ff-micheldorf.at/events/ferienaktion-der-ff-micheldorf
 /?lang=de
ATTACH:https://www.ff-micheldorf.at/events/ferienaktion-der-ff-micheld
 orf/?lang=de
LOCATION:FW Haus Mdf\, \,
END:VEVENT
BEGIN:VEVENT
DTSTAMP:20260421T085015Z
DTSTART:20260803T180000Z
DTEND:20260803T190000Z
UID:20260803T180000Z-20260803T190000Z-2821@www.ff-micheldorf.at
SUMMARY:Monatsversammlung
DESCRIPTION:
X-ALT-DESC;FMTTYPE=text/html:
URL:https://www.ff-micheldorf.at/events/monatsversammlung-90/?lang=de
ATTACH:https://www.ff-micheldorf.at/events/monatsversammlung-90/?lang=
 de
LOCATION:FW-Haus Micheldorf\, \,
END:VEVENT
BEGIN:VEVENT
DTSTAMP:20260421T085015Z
DTSTART:20260817T173000Z
DTEND:20260817T193000Z
UID:20260817T173000Z-20260817T193000Z-2827@www.ff-micheldorf.at
SUMMARY:Kommandantendienstbesprechung Bezirk
DESCRIPTION:
X-ALT-DESC;FMTTYPE=text/html:
URL:https://www.ff-micheldorf.at/events/kommandantendienstbesprechung-
 bezirk-5/?lang=de
ATTACH:https://www.ff-micheldorf.at/events/kommandantendienstbesprechu
 ng-bezirk-5/?lang=de
LOCATION:FW-Haus Micheldorf\, \,
END:VEVENT
BEGIN:VEVENT
DTSTAMP:20260421T085015Z
DTSTART:20260831T170000Z
DTEND:20260831T190000Z
UID:20260831T170000Z-20260831T190000Z-2855@www.ff-micheldorf.at
SUMMARY:Kommandositzung
DESCRIPTION:
X-ALT-DESC;FMTTYPE=text/html:
URL:https://www.ff-micheldorf.at/events/kommandositzung-39/?lang=de
ATTACH:https://www.ff-micheldorf.at/events/kommandositzung-39/?lang=de
END:VEVENT
BEGIN:VEVENT
DTSTAMP:20260421T085015Z
DTSTART:20260907T180000Z
DTEND:20260907T190000Z
UID:20260907T180000Z-20260907T190000Z-2822@www.ff-micheldorf.at
SUMMARY:Monatsversammlung
DESCRIPTION:
X-ALT-DESC;FMTTYPE=text/html:
URL:https://www.ff-micheldorf.at/events/monatsversammlung-91/?lang=de
ATTACH:https://www.ff-micheldorf.at/events/monatsversammlung-91/?lang=
 de
LOCATION:FW-Haus Micheldorf\, \,
END:VEVENT
BEGIN:VEVENT
DTSTAMP:20260421T085015Z
DTSTART;VALUE=DATE:20260912
DTEND;VALUE=DATE:20260914
UID:20260911T220000Z-20260913T215959Z-2797@www.ff-micheldorf.at
SUMMARY:Feuerwehrfest mit Fahrzeugweihe WLK
DESCRIPTION:
X-ALT-DESC;FMTTYPE=text/html:
URL:https://www.ff-micheldorf.at/events/feuerwehrfest-mit-fahrzeugweih
 e-wlk/?lang=de
ATTACH:https://www.ff-micheldorf.at/events/feuerwehrfest-mit-fahrzeugw
 eihe-wlk/?lang=de
LOCATION:FW Haus Mdf\, \,
END:VEVENT
BEGIN:VEVENT
DTSTAMP:20260421T085015Z
DTSTART;VALUE=DATE:20260918
DTEND;VALUE=DATE:20260920
UID:20260917T220000Z-20260919T215959Z-2889@www.ff-micheldorf.at
SUMMARY:Abschluss Truppmannausbildung
DESCRIPTION:
X-ALT-DESC;FMTTYPE=text/html:
URL:https://www.ff-micheldorf.at/events/abschluss-truppmannausbildung/
 ?lang=de
ATTACH:https://www.ff-micheldorf.at/events/abschluss-truppmannausbildu
 ng/?lang=de
LOCATION:Kremsmünster\, \,
END:VEVENT
BEGIN:VEVENT
DTSTAMP:20260421T085015Z
DTSTART:20260926T053000Z
DTEND:20260926T180000Z
UID:20260926T053000Z-20260926T180000Z-2916@www.ff-micheldorf.at
SUMMARY:Feuerwehrausflug
DESCRIPTION:
X-ALT-DESC;FMTTYPE=text/html:
URL:https://www.ff-micheldorf.at/events/feuerwehrausflug-5/?lang=de
ATTACH:https://www.ff-micheldorf.at/events/feuerwehrausflug-5/?lang=de
END:VEVENT
BEGIN:VEVENT
DTSTAMP:20260421T085015Z
DTSTART:20260928T170000Z
DTEND:20260928T190000Z
UID:20260928T170000Z-20260928T190000Z-2856@www.ff-micheldorf.at
SUMMARY:Kommandositzung
DESCRIPTION:
X-ALT-DESC;FMTTYPE=text/html:
URL:https://www.ff-micheldorf.at/events/kommandositzung-40/?lang=de
ATTACH:https://www.ff-micheldorf.at/events/kommandositzung-40/?lang=de
END:VEVENT
BEGIN:VEVENT
DTSTAMP:20260421T085015Z
DTSTART:20261005T180000Z
DTEND:20261005T190000Z
UID:20261005T180000Z-20261005T190000Z-2823@www.ff-micheldorf.at
SUMMARY:Monatsversammlung
DESCRIPTION:
X-ALT-DESC;FMTTYPE=text/html:
URL:https://www.ff-micheldorf.at/events/monatsversammlung-92/?lang=de
ATTACH:https://www.ff-micheldorf.at/events/monatsversammlung-92/?lang=
 de
LOCATION:FW-Haus Micheldorf\, \,
END:VEVENT
BEGIN:VEVENT
DTSTAMP:20260421T085015Z
DTSTART;VALUE=DATE:20261009
DTEND;VALUE=DATE:20261011
UID:20261008T220000Z-20261010T215959Z-2890@www.ff-micheldorf.at
SUMMARY:Abschluss Truppmannausbildung
DESCRIPTION:
X-ALT-DESC;FMTTYPE=text/html:
URL:https://www.ff-micheldorf.at/events/abschluss-truppmannausbildung-
 2/?lang=de
ATTACH:https://www.ff-micheldorf.at/events/abschluss-truppmannausbildu
 ng-2/?lang=de
LOCATION:Höss Hinterstoder\, Hinterstoder\, Hinterstoder
END:VEVENT
BEGIN:VEVENT
DTSTAMP:20260421T085015Z
DTSTART:20261009T170000Z
DTEND:20261009T190000Z
UID:20261009T170000Z-20261009T190000Z-2838@www.ff-micheldorf.at
SUMMARY:Zugsübung Brand Gebäude mit Menschenansammlung (mit FF Lauterb
 ach)
DESCRIPTION:
X-ALT-DESC;FMTTYPE=text/html:
URL:https://www.ff-micheldorf.at/events/zugsuebung-brand-gebaeude-mit-
 menschenansammlung-mit-ff-lauterbach/?lang=de
ATTACH:https://www.ff-micheldorf.at/events/zugsuebung-brand-gebaeude-m
 it-menschenansammlung-mit-ff-lauterbach/?lang=de
LOCATION:Volksschule Mdf\, \,
END:VEVENT
BEGIN:VEVENT
DTSTAMP:20260421T085015Z
DTSTART:20261017T060000Z
DTEND:20261017T100000Z
UID:20261017T060000Z-20261017T100000Z-2839@www.ff-micheldorf.at
SUMMARY:Finnentest 2. Termin
DESCRIPTION:
X-ALT-DESC;FMTTYPE=text/html:
URL:https://www.ff-micheldorf.at/events/finnentest-2-termin-2/?lang=de
ATTACH:https://www.ff-micheldorf.at/events/finnentest-2-termin-2/?lang
 =de
LOCATION:FW Haus Mdf\, \,
END:VEVENT
BEGIN:VEVENT
DTSTAMP:20260421T085015Z
DTSTART:20261026T180000Z
DTEND:20261026T200000Z
UID:20261026T180000Z-20261026T200000Z-2857@www.ff-micheldorf.at
SUMMARY:Kommandositzung
DESCRIPTION:
X-ALT-DESC;FMTTYPE=text/html:
URL:https://www.ff-micheldorf.at/events/kommandositzung-41/?lang=de
ATTACH:https://www.ff-micheldorf.at/events/kommandositzung-41/?lang=de
END:VEVENT
BEGIN:VEVENT
DTSTAMP:20260421T085015Z
DTSTART:20261102T190000Z
DTEND:20261102T200000Z
UID:20261102T190000Z-20261102T200000Z-2824@www.ff-micheldorf.at
SUMMARY:Monatsversammlung
DESCRIPTION:
X-ALT-DESC;FMTTYPE=text/html:
URL:https://www.ff-micheldorf.at/events/monatsversammlung-93/?lang=de
ATTACH:https://www.ff-micheldorf.at/events/monatsversammlung-93/?lang=
 de
LOCATION:FW-Haus Micheldorf\, \,
END:VEVENT
BEGIN:VEVENT
DTSTAMP:20260421T085015Z
DTSTART:20261106T160000Z
DTEND:20261106T193000Z
UID:20261106T160000Z-20261106T193000Z-2830@www.ff-micheldorf.at
SUMMARY:Abnahme Truppführer
DESCRIPTION:
X-ALT-DESC;FMTTYPE=text/html:
URL:https://www.ff-micheldorf.at/events/abnahme-truppfuehrer-3/?lang=d
 e
ATTACH:https://www.ff-micheldorf.at/events/abnahme-truppfuehrer-3/?lan
 g=de
LOCATION:Feuerwehrhaus Pettenbach\, Vorchdorfer Straße 35\, Pettenbach
END:VEVENT
BEGIN:VEVENT
DTSTAMP:20260421T085015Z
DTSTART:20261106T180000Z
DTEND:20261106T200000Z
UID:20261106T180000Z-20261106T200000Z-2840@www.ff-micheldorf.at
SUMMARY:Zugsübung VU\, Menschenrettung - mit RK Kirchdorf
DESCRIPTION:
X-ALT-DESC;FMTTYPE=text/html:
URL:https://www.ff-micheldorf.at/events/zugsuebung-vu-menschenrettung-
 mit-rk-kirchdorf/?lang=de
ATTACH:https://www.ff-micheldorf.at/events/zugsuebung-vu-menschenrettu
 ng-mit-rk-kirchdorf/?lang=de
LOCATION:Gemeindegebiet\, \,
END:VEVENT
BEGIN:VEVENT
DTSTAMP:20260421T085015Z
DTSTART:20261130T180000Z
DTEND:20261130T200000Z
UID:20261130T180000Z-20261130T200000Z-2858@www.ff-micheldorf.at
SUMMARY:Kommandositzung
DESCRIPTION:
X-ALT-DESC;FMTTYPE=text/html:
URL:https://www.ff-micheldorf.at/events/kommandositzung-42/?lang=de
ATTACH:https://www.ff-micheldorf.at/events/kommandositzung-42/?lang=de
END:VEVENT
BEGIN:VEVENT
DTSTAMP:20260421T085015Z
DTSTART:20261130T183000Z
DTEND:20261130T203000Z
UID:20261130T183000Z-20261130T203000Z-2828@www.ff-micheldorf.at
SUMMARY:Kommandantendienstbesprechung Bezirk
DESCRIPTION:
X-ALT-DESC;FMTTYPE=text/html:
URL:https://www.ff-micheldorf.at/events/kommandantendienstbesprechung-
 bezirk-6/?lang=de
ATTACH:https://www.ff-micheldorf.at/events/kommandantendienstbesprechu
 ng-bezirk-6/?lang=de
LOCATION:FW-Haus Micheldorf\, \,
END:VEVENT
BEGIN:VEVENT
DTSTAMP:20260421T085015Z
DTSTART:20261207T190000Z
DTEND:20261207T200000Z
UID:20261207T190000Z-20261207T200000Z-2825@www.ff-micheldorf.at
SUMMARY:Monatsversammlung
DESCRIPTION:
X-ALT-DESC;FMTTYPE=text/html:
URL:https://www.ff-micheldorf.at/events/monatsversammlung-94/?lang=de
ATTACH:https://www.ff-micheldorf.at/events/monatsversammlung-94/?lang=
 de
LOCATION:FW Haus Mdf\, \,
END:VEVENT
BEGIN:VEVENT
DTSTAMP:20260421T085015Z
DTSTART:20261211T180000Z
DTEND:20261211T200000Z
UID:20261211T180000Z-20261211T200000Z-2841@www.ff-micheldorf.at
SUMMARY:Zugsübung Stationsbetrieb
DESCRIPTION:
X-ALT-DESC;FMTTYPE=text/html:
URL:https://www.ff-micheldorf.at/events/zugsuebung-stationsbetrieb/?la
 ng=de
ATTACH:https://www.ff-micheldorf.at/events/zugsuebung-stationsbetrieb/
 ?lang=de
LOCATION:FW Haus Kdf\, \,
END:VEVENT
BEGIN:VEVENT
DTSTAMP:20260421T085015Z
DTSTART:20261221T180000Z
DTEND:20261221T210000Z
UID:20261221T180000Z-20261221T210000Z-2798@www.ff-micheldorf.at
SUMMARY:Winterwendefeuer
DESCRIPTION:
X-ALT-DESC;FMTTYPE=text/html:
URL:https://www.ff-micheldorf.at/events/winterwendefeuer/?lang=de
ATTACH:https://www.ff-micheldorf.at/events/winterwendefeuer/?lang=de
LOCATION:Kirchenparkplatz\, \,
END:VEVENT
BEGIN:VEVENT
DTSTAMP:20260421T085015Z
DTSTART:20261228T180000Z
DTEND:20261228T200000Z
UID:20261228T180000Z-20261228T200000Z-2859@www.ff-micheldorf.at
SUMMARY:Kommandositzung
DESCRIPTION:
X-ALT-DESC;FMTTYPE=text/html:
URL:https://www.ff-micheldorf.at/events/kommandositzung-43/?lang=de
ATTACH:https://www.ff-micheldorf.at/events/kommandositzung-43/?lang=de
END:VEVENT
BEGIN:VEVENT
DTSTAMP:20260421T085015Z
DTSTART:20270104T190000Z
DTEND:20270104T200000Z
UID:20270104T190000Z-20270104T200000Z-2860@www.ff-micheldorf.at
SUMMARY:Monatsversammlung
DESCRIPTION:
X-ALT-DESC;FMTTYPE=text/html:
URL:https://www.ff-micheldorf.at/events/monatsversammlung-95/?lang=de
ATTACH:https://www.ff-micheldorf.at/events/monatsversammlung-95/?lang=
 de
END:VEVENT
END:VCALENDAR
